BEGIN:VCALENDAR
VERSION:2.0
PRODID:-//Leadership Clarksville - ECPv6.15.18//NONSGML v1.0//EN
CALSCALE:GREGORIAN
METHOD:PUBLISH
X-WR-CALNAME:Leadership Clarksville
X-ORIGINAL-URL:https://leadershipclarksville.com
X-WR-CALDESC:Events for Leadership Clarksville
REFRESH-INTERVAL;VALUE=DURATION:PT1H
X-Robots-Tag:noindex
X-PUBLISHED-TTL:PT1H
BEGIN:VTIMEZONE
TZID:America/Chicago
BEGIN:DAYLIGHT
TZOFFSETFROM:-0600
TZOFFSETTO:-0500
TZNAME:CDT
DTSTART:20210314T080000
END:DAYLIGHT
BEGIN:STANDARD
TZOFFSETFROM:-0500
TZOFFSETTO:-0600
TZNAME:CST
DTSTART:20211107T070000
END:STANDARD
BEGIN:DAYLIGHT
TZOFFSETFROM:-0600
TZOFFSETTO:-0500
TZNAME:CDT
DTSTART:20220313T080000
END:DAYLIGHT
BEGIN:STANDARD
TZOFFSETFROM:-0500
TZOFFSETTO:-0600
TZNAME:CST
DTSTART:20221106T070000
END:STANDARD
BEGIN:DAYLIGHT
TZOFFSETFROM:-0600
TZOFFSETTO:-0500
TZNAME:CDT
DTSTART:20230312T080000
END:DAYLIGHT
BEGIN:STANDARD
TZOFFSETFROM:-0500
TZOFFSETTO:-0600
TZNAME:CST
DTSTART:20231105T070000
END:STANDARD
BEGIN:DAYLIGHT
TZOFFSETFROM:-0600
TZOFFSETTO:-0500
TZNAME:CDT
DTSTART:20240310T080000
END:DAYLIGHT
BEGIN:STANDARD
TZOFFSETFROM:-0500
TZOFFSETTO:-0600
TZNAME:CST
DTSTART:20241103T070000
END:STANDARD
END:VTIMEZONE
BEGIN:VEVENT
DTSTART;TZID=America/Chicago:20230117T113000
DTEND;TZID=America/Chicago:20230117T130000
DTSTAMP:20260421T195527
CREATED:20220929T021521Z
LAST-MODIFIED:20220929T021521Z
UID:6427-1673955000-1673960400@leadershipclarksville.com
SUMMARY:MoCo Non-Profit Alliance Quarterly Luncheon
DESCRIPTION:
URL:https://leadershipclarksville.com/event/moco-non-profit-alliance-quarterly-luncheon/
ORGANIZER;CN="Leadership Clarksville":MAILTO:info@leadershipclarksville.com
END:VEVENT
BEGIN:VEVENT
DTSTART;TZID=America/Chicago:20230112T080000
DTEND;TZID=America/Chicago:20230112T170000
DTSTAMP:20260421T195527
CREATED:20220929T021353Z
LAST-MODIFIED:20221117T171832Z
UID:6425-1673510400-1673542800@leadershipclarksville.com
SUMMARY:LC Spirituality and Inclusion Day by Nicoletta's Catering
DESCRIPTION:
URL:https://leadershipclarksville.com/event/lc-religion-and-diversity-day-by-nicolettas-catering/
ORGANIZER;CN="Leadership Clarksville":MAILTO:info@leadershipclarksville.com
END:VEVENT
BEGIN:VEVENT
DTSTART;TZID=America/Chicago:20230105T073000
DTEND;TZID=America/Chicago:20230105T143000
DTSTAMP:20260421T195527
CREATED:20220929T021009Z
LAST-MODIFIED:20220929T021211Z
UID:6422-1672903800-1672929000@leadershipclarksville.com
SUMMARY:YLC Health Day by Nicoletta's Catering
DESCRIPTION:
URL:https://leadershipclarksville.com/event/ylc-health-day/
ORGANIZER;CN="Leadership Clarksville":MAILTO:info@leadershipclarksville.com
END:VEVENT
BEGIN:VEVENT
DTSTART;TZID=America/Chicago:20221220T170000
DTEND;TZID=America/Chicago:20221220T190000
DTSTAMP:20260421T195527
CREATED:20220907T125233Z
LAST-MODIFIED:20220912T171654Z
UID:6187-1671555600-1671562800@leadershipclarksville.com
SUMMARY:2nd Annual Leadership Clarksville Holiday Social
DESCRIPTION:
URL:https://leadershipclarksville.com/event/2nd-annual-leadership-clarksville-holiday-social/
END:VEVENT
BEGIN:VEVENT
DTSTART;TZID=America/Chicago:20221208T080000
DTEND;TZID=America/Chicago:20221208T180000
DTSTAMP:20260421T195527
CREATED:20220907T125122Z
LAST-MODIFIED:20220912T162555Z
UID:6185-1670486400-1670522400@leadershipclarksville.com
SUMMARY:LC Business\, Industry\, and Agriculture Day by APSU College of Business
DESCRIPTION:
URL:https://leadershipclarksville.com/event/lc-business-industry-and-agriculture-day/
END:VEVENT
BEGIN:VEVENT
DTSTART;TZID=America/Chicago:20221201T073000
DTEND;TZID=America/Chicago:20221201T143000
DTSTAMP:20260421T195527
CREATED:20220907T125029Z
LAST-MODIFIED:20220912T162015Z
UID:6183-1669879800-1669905000@leadershipclarksville.com
SUMMARY:YLC Leadership Day by APSU College of Business
DESCRIPTION:
URL:https://leadershipclarksville.com/event/ylc-program-day-3/
END:VEVENT
BEGIN:VEVENT
DTSTART;TZID=America/Chicago:20221122T160000
DTEND;TZID=America/Chicago:20221122T170000
DTSTAMP:20260421T195527
CREATED:20220907T124920Z
LAST-MODIFIED:20220907T124920Z
UID:6181-1669132800-1669136400@leadershipclarksville.com
SUMMARY:Board of Trustees Meeting
DESCRIPTION:
URL:https://leadershipclarksville.com/event/board-of-trustees-meeting-2/
END:VEVENT
BEGIN:VEVENT
DTSTART;TZID=America/Chicago:20221110T080000
DTEND;TZID=America/Chicago:20221110T180000
DTSTAMP:20260421T195527
CREATED:20220907T124805Z
LAST-MODIFIED:20221117T171945Z
UID:6179-1668067200-1668103200@leadershipclarksville.com
SUMMARY:LC Law\, Crime\, and Justice Day
DESCRIPTION:
URL:https://leadershipclarksville.com/event/lc-law-crime-and-justice-day/
END:VEVENT
BEGIN:VEVENT
DTSTART;TZID=America/Chicago:20221103T073000
DTEND;TZID=America/Chicago:20221103T143000
DTSTAMP:20260421T195527
CREATED:20220907T124653Z
LAST-MODIFIED:20221117T172007Z
UID:6177-1667460600-1667485800@leadershipclarksville.com
SUMMARY:YLC Religion Day by Jim and Dottie Mann
DESCRIPTION:
URL:https://leadershipclarksville.com/event/ylc-program-day-2/
END:VEVENT
BEGIN:VEVENT
DTSTART;TZID=America/Chicago:20221018T113000
DTEND;TZID=America/Chicago:20221018T130000
DTSTAMP:20260421T195527
CREATED:20220907T124509Z
LAST-MODIFIED:20220907T124509Z
UID:6175-1666092600-1666098000@leadershipclarksville.com
SUMMARY:MoCo Non-Profit Alliance Luncheon
DESCRIPTION:
URL:https://leadershipclarksville.com/event/moco-non-profit-alliance-luncheon/
END:VEVENT
BEGIN:VEVENT
DTSTART;TZID=America/Chicago:20221013T080000
DTEND;TZID=America/Chicago:20221013T170000
DTSTAMP:20260421T195527
CREATED:20220907T124408Z
LAST-MODIFIED:20220912T161651Z
UID:6173-1665648000-1665680400@leadershipclarksville.com
SUMMARY:LC Fort Campbell Day by Fortera Credit Union
DESCRIPTION:
URL:https://leadershipclarksville.com/event/lc-fort-campbell-day/
END:VEVENT
BEGIN:VEVENT
DTSTART;TZID=America/Chicago:20221006T073000
DTEND;TZID=America/Chicago:20221006T143000
DTSTAMP:20260421T195527
CREATED:20220907T124322Z
LAST-MODIFIED:20220912T161601Z
UID:6171-1665041400-1665066600@leadershipclarksville.com
SUMMARY:YLC Agriculture and Urban Planning Day by Fortera Credit Union
DESCRIPTION:
URL:https://leadershipclarksville.com/event/ylc-program-day/
END:VEVENT
BEGIN:VEVENT
DTSTART;TZID=America/Chicago:20221005T160000
DTEND;TZID=America/Chicago:20221005T170000
DTSTAMP:20260421T195527
CREATED:20220907T124212Z
LAST-MODIFIED:20220926T200404Z
UID:6169-1664985600-1664989200@leadershipclarksville.com
SUMMARY:Board of Trustees Meeting
DESCRIPTION:
URL:https://leadershipclarksville.com/event/board-of-trustees-meeting/
LOCATION:25 Jefferson Street Community Room\, 25 Jefferson Street\, Clarksville\, TN\, 37040\, United States
ORGANIZER;CN="Leadership Clarksville":MAILTO:info@leadershipclarksville.com
END:VEVENT
BEGIN:VEVENT
DTSTART;TZID=America/Chicago:20220924T100000
DTEND;TZID=America/Chicago:20220924T120000
DTSTAMP:20260421T195527
CREATED:20220912T205642Z
LAST-MODIFIED:20220912T205655Z
UID:6348-1664013600-1664020800@leadershipclarksville.com
SUMMARY:LC "Just Plane Fun" Brunch Social
DESCRIPTION:
URL:https://leadershipclarksville.com/event/lc-just-plane-fun-brunch-social/
LOCATION:Clarksville Regional Airport\, 200A Outlaw Field Road\, Clarksville\, TN\, 37042\, United States
ORGANIZER;CN="Leadership Clarksville":MAILTO:info@leadershipclarksville.com
END:VEVENT
BEGIN:VEVENT
DTSTART;TZID=America/Chicago:20220922T170000
DTEND;TZID=America/Chicago:20220922T190000
DTSTAMP:20260421T195527
CREATED:20220907T124111Z
LAST-MODIFIED:20220907T124111Z
UID:6167-1663866000-1663873200@leadershipclarksville.com
SUMMARY:Class of 2022 Reunion
DESCRIPTION:Yada on Franklin
URL:https://leadershipclarksville.com/event/class-of-2022-reunion/
END:VEVENT
BEGIN:VEVENT
DTSTART;TZID=America/Chicago:20220921T080000
DTEND;TZID=America/Chicago:20220922T170000
DTSTAMP:20260421T195527
CREATED:20220907T123850Z
LAST-MODIFIED:20220907T123900Z
UID:6165-1663747200-1663866000@leadershipclarksville.com
SUMMARY:Harwood Institute Innovator's Lab
DESCRIPTION:
URL:https://leadershipclarksville.com/event/harwood-institute-innovators-lab/
END:VEVENT
BEGIN:VEVENT
DTSTART;TZID=America/Chicago:20220915T070000
DTEND;TZID=America/Chicago:20220916T140000
DTSTAMP:20260421T195527
CREATED:20220907T123626Z
LAST-MODIFIED:20220912T171807Z
UID:6163-1663225200-1663336800@leadershipclarksville.com
SUMMARY:Class of 2023 Retreat by Jack B Turner and Associates\, F&M\, CB&T\, and Wiggins Medical Transit
DESCRIPTION:
URL:https://leadershipclarksville.com/event/class-of-2023-retreat/
END:VEVENT
BEGIN:VEVENT
DTSTART;TZID=America/Chicago:20220908T180000
DTEND;TZID=America/Chicago:20220908T200000
DTSTAMP:20260421T195527
CREATED:20220829T190000Z
LAST-MODIFIED:20220912T161330Z
UID:6008-1662660000-1662667200@leadershipclarksville.com
SUMMARY:Class of 2023 New Class Reception with Nicoletta's Catering\, Ajax\, Tri Star and Beachhaven
DESCRIPTION:
URL:https://leadershipclarksville.com/event/class-of-2023-new-class-reception/
END:VEVENT
BEGIN:VEVENT
DTSTART;TZID=America/Chicago:20220906T190000
DTEND;TZID=America/Chicago:20220906T203000
DTSTAMP:20260421T195527
CREATED:20220829T185840Z
LAST-MODIFIED:20220912T161241Z
UID:6006-1662490800-1662496200@leadershipclarksville.com
SUMMARY:Nashville Symphony Performance by Jack B Turner and Associates
DESCRIPTION:
URL:https://leadershipclarksville.com/event/nashville-symphony-performance/
END:VEVENT
BEGIN:VEVENT
DTSTART;TZID=America/Chicago:20220901T070000
DTEND;TZID=America/Chicago:20220901T150000
DTSTAMP:20260421T195527
CREATED:20220815T182417Z
LAST-MODIFIED:20220912T161203Z
UID:5651-1662015600-1662044400@leadershipclarksville.com
SUMMARY:Youth Leadership Clarksville Business and Industry Day by JBT and Associates
DESCRIPTION:
URL:https://leadershipclarksville.com/event/example-event-1/
END:VEVENT
END:VCALENDAR