BEGIN:VCALENDAR
VERSION:2.0
PRODID:-//Leadership Clarksville - ECPv6.15.18//NONSGML v1.0//EN
CALSCALE:GREGORIAN
METHOD:PUBLISH
X-WR-CALNAME:Leadership Clarksville
X-ORIGINAL-URL:https://leadershipclarksville.com
X-WR-CALDESC:Events for Leadership Clarksville
REFRESH-INTERVAL;VALUE=DURATION:PT1H
X-Robots-Tag:noindex
X-PUBLISHED-TTL:PT1H
BEGIN:VTIMEZONE
TZID:America/Chicago
BEGIN:DAYLIGHT
TZOFFSETFROM:-0600
TZOFFSETTO:-0500
TZNAME:CDT
DTSTART:20210314T080000
END:DAYLIGHT
BEGIN:STANDARD
TZOFFSETFROM:-0500
TZOFFSETTO:-0600
TZNAME:CST
DTSTART:20211107T070000
END:STANDARD
BEGIN:DAYLIGHT
TZOFFSETFROM:-0600
TZOFFSETTO:-0500
TZNAME:CDT
DTSTART:20220313T080000
END:DAYLIGHT
BEGIN:STANDARD
TZOFFSETFROM:-0500
TZOFFSETTO:-0600
TZNAME:CST
DTSTART:20221106T070000
END:STANDARD
BEGIN:DAYLIGHT
TZOFFSETFROM:-0600
TZOFFSETTO:-0500
TZNAME:CDT
DTSTART:20230312T080000
END:DAYLIGHT
BEGIN:STANDARD
TZOFFSETFROM:-0500
TZOFFSETTO:-0600
TZNAME:CST
DTSTART:20231105T070000
END:STANDARD
BEGIN:DAYLIGHT
TZOFFSETFROM:-0600
TZOFFSETTO:-0500
TZNAME:CDT
DTSTART:20240310T080000
END:DAYLIGHT
BEGIN:STANDARD
TZOFFSETFROM:-0500
TZOFFSETTO:-0600
TZNAME:CST
DTSTART:20241103T070000
END:STANDARD
END:VTIMEZONE
BEGIN:VEVENT
DTSTART;VALUE=DATE:20231019
DTEND;VALUE=DATE:20231020
DTSTAMP:20260421T194104
CREATED:20230804T160529Z
LAST-MODIFIED:20230804T160529Z
UID:6948-1697673600-1697759999@leadershipclarksville.com
SUMMARY:Leadership Clarksville Fort Campbell Program Day
DESCRIPTION:
URL:https://leadershipclarksville.com/event/leadership-clarksville-fort-campbell-program-day/
LOCATION:TN
END:VEVENT
BEGIN:VEVENT
DTSTART;VALUE=DATE:20231005
DTEND;VALUE=DATE:20231006
DTSTAMP:20260421T194104
CREATED:20230808T164411Z
LAST-MODIFIED:20230808T164855Z
UID:6971-1696464000-1696550399@leadershipclarksville.com
SUMMARY:YLC Agriculture and Urban Planning Day
DESCRIPTION:
URL:https://leadershipclarksville.com/event/agriculture-and-urban-planning/
LOCATION:TN
END:VEVENT
BEGIN:VEVENT
DTSTART;TZID=America/Chicago:20230928T070000
DTEND;TZID=America/Chicago:20230929T130000
DTSTAMP:20260421T194104
CREATED:20220929T025000Z
LAST-MODIFIED:20230714T193157Z
UID:6470-1695884400-1695992400@leadershipclarksville.com
SUMMARY:LC Class of 2024 Retreat
DESCRIPTION:
URL:https://leadershipclarksville.com/event/lc-class-of-2024-retreat/
LOCATION:TN
ORGANIZER;CN="Leadership Clarksville":MAILTO:info@leadershipclarksville.com
END:VEVENT
BEGIN:VEVENT
DTSTART;TZID=America/Chicago:20230926T160000
DTEND;TZID=America/Chicago:20230926T170000
DTSTAMP:20260421T194104
CREATED:20220929T025113Z
LAST-MODIFIED:20220929T025113Z
UID:6473-1695744000-1695747600@leadershipclarksville.com
SUMMARY:Board of Trustees Meeting
DESCRIPTION:
URL:https://leadershipclarksville.com/event/board-of-trustees-meeting-5/
LOCATION:25 Jefferson Street Community Room\, 25 Jefferson Street\, Clarksville\, TN\, 37040\, United States
ORGANIZER;CN="Leadership Clarksville":MAILTO:info@leadershipclarksville.com
END:VEVENT
BEGIN:VEVENT
DTSTART;TZID=America/Chicago:20230912T180000
DTEND;TZID=America/Chicago:20230912T180000
DTSTAMP:20260421T194104
CREATED:20220929T024833Z
LAST-MODIFIED:20230804T152817Z
UID:6468-1694541600-1694541600@leadershipclarksville.com
SUMMARY:LC Class of 2024 Reception
DESCRIPTION:
URL:https://leadershipclarksville.com/event/lc-class-of-2024-reception/
LOCATION:The Press\, 211 S 2nd St\, Clarksville\, TN\, 37040\, United States
ORGANIZER;CN="Leadership Clarksville":MAILTO:info@leadershipclarksville.com
END:VEVENT
BEGIN:VEVENT
DTSTART;TZID=America/Chicago:20230907T073000
DTEND;TZID=America/Chicago:20230907T143000
DTSTAMP:20260421T194104
CREATED:20220929T024715Z
LAST-MODIFIED:20220929T024715Z
UID:6465-1694071800-1694097000@leadershipclarksville.com
SUMMARY:YLC Fort Campbell Day
DESCRIPTION:
URL:https://leadershipclarksville.com/event/ylc-fort-campbell-day/
LOCATION:Fort Campbell\, Ky
ORGANIZER;CN="Leadership Clarksville":MAILTO:info@leadershipclarksville.com
END:VEVENT
BEGIN:VEVENT
DTSTART;VALUE=DATE:20230907
DTEND;VALUE=DATE:20230908
DTSTAMP:20260421T194104
CREATED:20230808T164336Z
LAST-MODIFIED:20230808T164336Z
UID:6969-1694044800-1694131199@leadershipclarksville.com
SUMMARY:YLC Fort Campbell Day
DESCRIPTION:
URL:https://leadershipclarksville.com/event/ylc-fort-campbell-day-2/
LOCATION:TN
END:VEVENT
BEGIN:VEVENT
DTSTART;TZID=America/Chicago:20230808T090000
DTEND;TZID=America/Chicago:20230808T153000
DTSTAMP:20260421T194104
CREATED:20230804T153503Z
LAST-MODIFIED:20230804T153503Z
UID:6941-1691485200-1691508600@leadershipclarksville.com
SUMMARY:Youth Leadership Clarksville Retreat
DESCRIPTION:Check email for further information.
URL:https://leadershipclarksville.com/event/youth-leadership-clarksville-retreat/
LOCATION:Austin Peay State University
END:VEVENT
BEGIN:VEVENT
DTSTART;TZID=America/Chicago:20230725T160000
DTEND;TZID=America/Chicago:20230725T170000
DTSTAMP:20260421T194104
CREATED:20220929T024539Z
LAST-MODIFIED:20220929T024539Z
UID:6463-1690300800-1690304400@leadershipclarksville.com
SUMMARY:Board of Trustees Meeting
DESCRIPTION:
URL:https://leadershipclarksville.com/event/board-of-trustees-meeting-4/
LOCATION:25 Jefferson Street Community Room\, 25 Jefferson Street\, Clarksville\, TN\, 37040\, United States
ORGANIZER;CN="Leadership Clarksville":MAILTO:info@leadershipclarksville.com
END:VEVENT
BEGIN:VEVENT
DTSTART;TZID=America/Chicago:20230627T160000
DTEND;TZID=America/Chicago:20230627T170000
DTSTAMP:20260421T194104
CREATED:20220929T024229Z
LAST-MODIFIED:20230503T184313Z
UID:6459-1687881600-1687885200@leadershipclarksville.com
SUMMARY:Annual Board of Trustees Meeting
DESCRIPTION:
URL:https://leadershipclarksville.com/event/annual-board-of-trustees-meeting/
LOCATION:25 Jefferson Street Community Room\, 25 Jefferson Street\, Clarksville\, TN\, 37040\, United States
ORGANIZER;CN="Leadership Clarksville":MAILTO:info@leadershipclarksville.com
END:VEVENT
BEGIN:VEVENT
DTSTART;VALUE=DATE:20230609
DTEND;VALUE=DATE:20230610
DTSTAMP:20260421T194104
CREATED:20230523T153520Z
LAST-MODIFIED:20230523T153520Z
UID:6878-1686268800-1686355199@leadershipclarksville.com
SUMMARY:Application Deadline
DESCRIPTION:
URL:https://leadershipclarksville.com/event/application-deadline/
LOCATION:TN
END:VEVENT
BEGIN:VEVENT
DTSTART;TZID=America/Chicago:20230516T170000
DTEND;TZID=America/Chicago:20230516T200000
DTSTAMP:20260421T194104
CREATED:20220929T024047Z
LAST-MODIFIED:20230503T183948Z
UID:6456-1684256400-1684267200@leadershipclarksville.com
SUMMARY:LC Class of 2023 Graduation Dinner
DESCRIPTION:
URL:https://leadershipclarksville.com/event/lc-class-of-2023-graduation-dinner/
LOCATION:F&M Bank\, 50 Franklin Street\, Clarksville\, TN\, 37040\, United States
ORGANIZER;CN="Leadership Clarksville":MAILTO:info@leadershipclarksville.com
END:VEVENT
BEGIN:VEVENT
DTSTART;TZID=America/Chicago:20230511T080000
DTEND;TZID=America/Chicago:20230511T170000
DTSTAMP:20260421T194104
CREATED:20220929T023606Z
LAST-MODIFIED:20230509T222246Z
UID:6452-1683792000-1683824400@leadershipclarksville.com
SUMMARY:LC Arts and Entertainment Day
DESCRIPTION:
URL:https://leadershipclarksville.com/event/lc-arts-and-entertainment-day-by-planters-bank/
LOCATION:TN
ORGANIZER;CN="Leadership Clarksville":MAILTO:info@leadershipclarksville.com
END:VEVENT
BEGIN:VEVENT
DTSTART;TZID=America/Chicago:20230510T180000
DTEND;TZID=America/Chicago:20230511T180000
DTSTAMP:20260421T194104
CREATED:20220929T023353Z
LAST-MODIFIED:20220929T023353Z
UID:6450-1683741600-1683828000@leadershipclarksville.com
SUMMARY:10th Annual The Big Payback
DESCRIPTION:
URL:https://leadershipclarksville.com/event/10th-annual-the-big-payback/
LOCATION:TN
ORGANIZER;CN="Leadership Clarksville":MAILTO:info@leadershipclarksville.com
END:VEVENT
BEGIN:VEVENT
DTSTART;TZID=America/Chicago:20230502T170000
DTEND;TZID=America/Chicago:20230502T200000
DTSTAMP:20260421T194104
CREATED:20220929T023808Z
LAST-MODIFIED:20230503T184052Z
UID:6454-1683046800-1683057600@leadershipclarksville.com
SUMMARY:LC 2023 Study Group Topic Presentations by Altra Federal Credit Union
DESCRIPTION:
URL:https://leadershipclarksville.com/event/lc-2023-study-group-topic-presentations-by-altra-federal-credit-union/
LOCATION:TN
ORGANIZER;CN="Leadership Clarksville":MAILTO:info@leadershipclarksville.com
END:VEVENT
BEGIN:VEVENT
DTSTART;TZID=America/Chicago:20230418T113000
DTEND;TZID=America/Chicago:20230418T130000
DTSTAMP:20260421T194104
CREATED:20220929T023020Z
LAST-MODIFIED:20220929T023020Z
UID:6446-1681817400-1681822800@leadershipclarksville.com
SUMMARY:MoCo Non-Profit Alliance Quarterly Luncheon
DESCRIPTION:
URL:https://leadershipclarksville.com/event/moco-non-profit-alliance-quarterly-luncheon-2/
LOCATION:TN
ORGANIZER;CN="Leadership Clarksville":MAILTO:info@leadershipclarksville.com
END:VEVENT
BEGIN:VEVENT
DTSTART;TZID=America/Chicago:20230413T080000
DTEND;TZID=America/Chicago:20230413T170000
DTSTAMP:20260421T194104
CREATED:20220929T022913Z
LAST-MODIFIED:20220929T022913Z
UID:6444-1681372800-1681405200@leadershipclarksville.com
SUMMARY:LC Education Day by Legends Bank
DESCRIPTION:
URL:https://leadershipclarksville.com/event/lc-education-day-by-legends-bank/
LOCATION:TN
ORGANIZER;CN="Leadership Clarksville":MAILTO:info@leadershipclarksville.com
END:VEVENT
BEGIN:VEVENT
DTSTART;TZID=America/Chicago:20230406T073000
DTEND;TZID=America/Chicago:20230406T143000
DTSTAMP:20260421T194104
CREATED:20220929T022812Z
LAST-MODIFIED:20220929T022812Z
UID:6442-1680766200-1680791400@leadershipclarksville.com
SUMMARY:YLC Arts and Entertainment Day by Legends Bank
DESCRIPTION:
URL:https://leadershipclarksville.com/event/ylc-arts-and-entertainment-day-by-legends-bank/
LOCATION:TN
ORGANIZER;CN="Leadership Clarksville":MAILTO:info@leadershipclarksville.com
END:VEVENT
BEGIN:VEVENT
DTSTART;TZID=America/Chicago:20230328T160000
DTEND;TZID=America/Chicago:20230328T170000
DTSTAMP:20260421T194104
CREATED:20220929T022607Z
LAST-MODIFIED:20220929T022607Z
UID:6440-1680019200-1680022800@leadershipclarksville.com
SUMMARY:Board of Trustees Meeting
DESCRIPTION:
URL:https://leadershipclarksville.com/event/board-of-trustees-meeting-3/
LOCATION:25 Jefferson Street Community Room\, 25 Jefferson Street\, Clarksville\, TN\, 37040\, United States
ORGANIZER;CN="Leadership Clarksville":MAILTO:info@leadershipclarksville.com
END:VEVENT
BEGIN:VEVENT
DTSTART;TZID=America/Chicago:20230316T080000
DTEND;TZID=America/Chicago:20230316T170000
DTSTAMP:20260421T194104
CREATED:20220929T022455Z
LAST-MODIFIED:20220929T022455Z
UID:6438-1678953600-1678986000@leadershipclarksville.com
SUMMARY:LC Government and Media Day by Trane Technologies
DESCRIPTION:
URL:https://leadershipclarksville.com/event/lc-government-and-media-day-by-trane-technologies/
LOCATION:TN
ORGANIZER;CN="Leadership Clarksville":MAILTO:info@leadershipclarksville.com
END:VEVENT
BEGIN:VEVENT
DTSTART;TZID=America/Chicago:20230302T073000
DTEND;TZID=America/Chicago:20230302T143000
DTSTAMP:20260421T194104
CREATED:20220929T022354Z
LAST-MODIFIED:20220929T022354Z
UID:6436-1677742200-1677767400@leadershipclarksville.com
SUMMARY:YLC Fort Campbell Day by Trane Technologies
DESCRIPTION:
URL:https://leadershipclarksville.com/event/ylc-fort-campbell-day-by-trane-technologies/
LOCATION:TN
ORGANIZER;CN="Leadership Clarksville":MAILTO:info@leadershipclarksville.com
END:VEVENT
BEGIN:VEVENT
DTSTART;TZID=America/Chicago:20230209T080000
DTEND;TZID=America/Chicago:20230209T170000
DTSTAMP:20260421T194104
CREATED:20220929T022236Z
LAST-MODIFIED:20220929T022236Z
UID:6434-1675929600-1675962000@leadershipclarksville.com
SUMMARY:LC Health and Social Concern Day by Regions Bank
DESCRIPTION:
URL:https://leadershipclarksville.com/event/lc-health-and-social-concern-day-by-regions-bank/
LOCATION:TN
ORGANIZER;CN="Leadership Clarksville":MAILTO:info@leadershipclarksville.com
END:VEVENT
BEGIN:VEVENT
DTSTART;TZID=America/Chicago:20230202T073000
DTEND;TZID=America/Chicago:20230202T143000
DTSTAMP:20260421T194104
CREATED:20220929T022054Z
LAST-MODIFIED:20220929T022054Z
UID:6432-1675323000-1675348200@leadershipclarksville.com
SUMMARY:YLC Government Day by Regions Bank
DESCRIPTION:
URL:https://leadershipclarksville.com/event/ylc-government-day-by-regions-bank/
LOCATION:TN
ORGANIZER;CN="Leadership Clarksville":MAILTO:info@leadershipclarksville.com
END:VEVENT
BEGIN:VEVENT
DTSTART;TZID=America/Chicago:20230124T160000
DTEND;TZID=America/Chicago:20230124T170000
DTSTAMP:20260421T194104
CREATED:20220929T021709Z
LAST-MODIFIED:20220929T021740Z
UID:6429-1674576000-1674579600@leadershipclarksville.com
SUMMARY:Board of Trustees Meeting
DESCRIPTION:
URL:https://leadershipclarksville.com/event/lc-board-of-trustees-bi-monthly-meeting/
LOCATION:25 Jefferson Street Community Room\, 25 Jefferson Street\, Clarksville\, TN\, 37040\, United States
ORGANIZER;CN="Leadership Clarksville":MAILTO:info@leadershipclarksville.com
END:VEVENT
BEGIN:VEVENT
DTSTART;TZID=America/Chicago:20230117T113000
DTEND;TZID=America/Chicago:20230117T130000
DTSTAMP:20260421T194104
CREATED:20220929T021521Z
LAST-MODIFIED:20220929T021521Z
UID:6427-1673955000-1673960400@leadershipclarksville.com
SUMMARY:MoCo Non-Profit Alliance Quarterly Luncheon
DESCRIPTION:
URL:https://leadershipclarksville.com/event/moco-non-profit-alliance-quarterly-luncheon/
LOCATION:TN
ORGANIZER;CN="Leadership Clarksville":MAILTO:info@leadershipclarksville.com
END:VEVENT
BEGIN:VEVENT
DTSTART;TZID=America/Chicago:20230112T080000
DTEND;TZID=America/Chicago:20230112T170000
DTSTAMP:20260421T194104
CREATED:20220929T021353Z
LAST-MODIFIED:20221117T171832Z
UID:6425-1673510400-1673542800@leadershipclarksville.com
SUMMARY:LC Spirituality and Inclusion Day by Nicoletta's Catering
DESCRIPTION:
URL:https://leadershipclarksville.com/event/lc-religion-and-diversity-day-by-nicolettas-catering/
LOCATION:TN
ORGANIZER;CN="Leadership Clarksville":MAILTO:info@leadershipclarksville.com
END:VEVENT
BEGIN:VEVENT
DTSTART;TZID=America/Chicago:20230105T073000
DTEND;TZID=America/Chicago:20230105T143000
DTSTAMP:20260421T194104
CREATED:20220929T021009Z
LAST-MODIFIED:20220929T021211Z
UID:6422-1672903800-1672929000@leadershipclarksville.com
SUMMARY:YLC Health Day by Nicoletta's Catering
DESCRIPTION:
URL:https://leadershipclarksville.com/event/ylc-health-day/
LOCATION:TN
ORGANIZER;CN="Leadership Clarksville":MAILTO:info@leadershipclarksville.com
END:VEVENT
BEGIN:VEVENT
DTSTART;TZID=America/Chicago:20221220T170000
DTEND;TZID=America/Chicago:20221220T190000
DTSTAMP:20260421T194104
CREATED:20220907T125233Z
LAST-MODIFIED:20220912T171654Z
UID:6187-1671555600-1671562800@leadershipclarksville.com
SUMMARY:2nd Annual Leadership Clarksville Holiday Social
DESCRIPTION:
URL:https://leadershipclarksville.com/event/2nd-annual-leadership-clarksville-holiday-social/
LOCATION:TN
END:VEVENT
BEGIN:VEVENT
DTSTART;TZID=America/Chicago:20221208T080000
DTEND;TZID=America/Chicago:20221208T180000
DTSTAMP:20260421T194104
CREATED:20220907T125122Z
LAST-MODIFIED:20220912T162555Z
UID:6185-1670486400-1670522400@leadershipclarksville.com
SUMMARY:LC Business\, Industry\, and Agriculture Day by APSU College of Business
DESCRIPTION:
URL:https://leadershipclarksville.com/event/lc-business-industry-and-agriculture-day/
LOCATION:TN
END:VEVENT
BEGIN:VEVENT
DTSTART;TZID=America/Chicago:20221201T073000
DTEND;TZID=America/Chicago:20221201T143000
DTSTAMP:20260421T194104
CREATED:20220907T125029Z
LAST-MODIFIED:20220912T162015Z
UID:6183-1669879800-1669905000@leadershipclarksville.com
SUMMARY:YLC Leadership Day by APSU College of Business
DESCRIPTION:
URL:https://leadershipclarksville.com/event/ylc-program-day-3/
LOCATION:TN
END:VEVENT
END:VCALENDAR