BEGIN:VCALENDAR
VERSION:2.0
PRODID:-//Leadership Clarksville - ECPv6.15.18//NONSGML v1.0//EN
CALSCALE:GREGORIAN
METHOD:PUBLISH
X-WR-CALNAME:Leadership Clarksville
X-ORIGINAL-URL:https://leadershipclarksville.com
X-WR-CALDESC:Events for Leadership Clarksville
REFRESH-INTERVAL;VALUE=DURATION:PT1H
X-Robots-Tag:noindex
X-PUBLISHED-TTL:PT1H
BEGIN:VTIMEZONE
TZID:America/Chicago
BEGIN:DAYLIGHT
TZOFFSETFROM:-0600
TZOFFSETTO:-0500
TZNAME:CDT
DTSTART:20220313T080000
END:DAYLIGHT
BEGIN:STANDARD
TZOFFSETFROM:-0500
TZOFFSETTO:-0600
TZNAME:CST
DTSTART:20221106T070000
END:STANDARD
BEGIN:DAYLIGHT
TZOFFSETFROM:-0600
TZOFFSETTO:-0500
TZNAME:CDT
DTSTART:20230312T080000
END:DAYLIGHT
BEGIN:STANDARD
TZOFFSETFROM:-0500
TZOFFSETTO:-0600
TZNAME:CST
DTSTART:20231105T070000
END:STANDARD
BEGIN:DAYLIGHT
TZOFFSETFROM:-0600
TZOFFSETTO:-0500
TZNAME:CDT
DTSTART:20240310T080000
END:DAYLIGHT
BEGIN:STANDARD
TZOFFSETFROM:-0500
TZOFFSETTO:-0600
TZNAME:CST
DTSTART:20241103T070000
END:STANDARD
BEGIN:DAYLIGHT
TZOFFSETFROM:-0600
TZOFFSETTO:-0500
TZNAME:CDT
DTSTART:20250309T080000
END:DAYLIGHT
BEGIN:STANDARD
TZOFFSETFROM:-0500
TZOFFSETTO:-0600
TZNAME:CST
DTSTART:20251102T070000
END:STANDARD
BEGIN:DAYLIGHT
TZOFFSETFROM:-0600
TZOFFSETTO:-0500
TZNAME:CDT
DTSTART:20260308T080000
END:DAYLIGHT
BEGIN:STANDARD
TZOFFSETFROM:-0500
TZOFFSETTO:-0600
TZNAME:CST
DTSTART:20261101T070000
END:STANDARD
END:VTIMEZONE
BEGIN:VEVENT
DTSTART;TZID=America/Chicago:20251211T080000
DTEND;TZID=America/Chicago:20251211T170000
DTSTAMP:20260421T141104
CREATED:20250915T134303Z
LAST-MODIFIED:20251208T165333Z
UID:7331-1765440000-1765472400@leadershipclarksville.com
SUMMARY:Cultural & Non-Profit Day
DESCRIPTION:Leadership Clarksville Class of 2026 Cultural & Non-Profit Day \n07:30-07:40 Class Arrival/Checkin – APSU Truck Center\, 416 College St. \nPark in Lot 24 at the Truck Center; Overflow parking in Lots 28 & 29 off 4th St. \n07:40 Board Bus for departure to Loaves & Fishes\, 825 Crossland Ave \n08:00-08:15 Arrival/Breakfast (Settle-In) \n08:15-09:00 Welcome by Executive Director John Durnell/Tours of the Facility \nFOCUS: Nonprofits Serving – Unhoused in Clarksville \n09:00-10:00 Nonprofits Panel – Michelle Austin\, Moderator \nPanel Members \nUrban Ministries – Domestic Violence Survivor and Unhoused Support Services \nCenterstone – Mental Health\, 24/7 ER \nIrene Center for Hope – Transitional Housing \nOperation Standown – Veterans Services \n10:00-10:15 Call to Action\, discussion\, Q & A \nBreak (10:15-10:30) \n10:30-10:45 Board Bus/departure to Manna Café Ministries – 605 Providence Blvd. \n10:45-11:30 Arrival/Tour of Manna Village \n11:30-12:00 Lunch Served [Panel discussion will start during lunch ~11:50] \nFOCUS: Nonprofits Serving – Youth in Clarksville \n11:50-12:30 Nonprofits Panel – Tiffany Perkins\, Moderator \nPanel Members \nNurture House Group \nBig Brothers & Big Sisters \nProgressive Directions Inc\, Buddy Ball \nBreak (12:30-12:45) \n12:45 – 1:00 Board Bus/Departure to APSU – Truck Center\, 416 College St. \n1FOCUS – Culture Expo “Educate 2 Elevate” \n12:00-1:00 Expo Set-up \n1:00-1:10 Welcome to Cultural Expo – Brendalyn Carpenter Player \nIntroduction of Facilitator\, Dr. ReGina Etter\, retired Metro Nashville Public Schools educator \n1:10-1:25 Elevate to Educate (E2E) Introduction – Dr. Etter \nThe Expo will educate and inform on aspects that contribute to the Clarksville/ \nMontgomery County Community culture – ethnicity\, education\, arts\, heritage\, service\, etc. \n1:25-2:15 Expo Engagement Part 1 \n*Teams finishing early should visit other organization tables. \n2:15-3:00 Expo Engagement Part 2 \n3:00-3:15 E2E Wrap Up – Dr. Etter \n3:15-3:30 Conclusion\, Acknowledgments\, Class Survey reminder \n3:30-4:00 Light Refreshments and Departure*
URL:https://leadershipclarksville.com/event/cultural-non-profit-day/
END:VEVENT
BEGIN:VEVENT
DTSTART;TZID=America/Chicago:20251209T080000
DTEND;TZID=America/Chicago:20251209T170000
DTSTAMP:20260421T141104
CREATED:20250915T135409Z
LAST-MODIFIED:20250915T135409Z
UID:7350-1765267200-1765299600@leadershipclarksville.com
SUMMARY:Religion\, Media\, & Community Service Day - Youth Leadership Clarksville
DESCRIPTION:YLC Religion\, Media\, & Community Service Day
URL:https://leadershipclarksville.com/event/religion-media-community-service-day-youth-leadership-clarksville/
END:VEVENT
BEGIN:VEVENT
DTSTART;TZID=America/Chicago:20251203T173000
DTEND;TZID=America/Chicago:20251203T193000
DTSTAMP:20260421T141104
CREATED:20251105T182805Z
LAST-MODIFIED:20251112T155729Z
UID:7403-1764783000-1764790200@leadershipclarksville.com
SUMMARY:Alumni Christmas Celebration
DESCRIPTION:Join us for the annual Alumni Christmas Celebration. The event is free to all current dues-paid alum and their plus one. \nRegister here: https://lp.constantcontactpages.com/ev/reg/jynjbpt \n 
URL:https://leadershipclarksville.com/event/alumni-christmas-celebration-2/
LOCATION:Customs House Museum\, 200 S 2nd Street\, Clarksville\, TN\, 37040\, United States
ORGANIZER;CN="Leadership Clarksville":MAILTO:info@leadershipclarksville.com
END:VEVENT
BEGIN:VEVENT
DTSTART;TZID=America/Chicago:20251113T080000
DTEND;TZID=America/Chicago:20251113T170000
DTSTAMP:20260421T141104
CREATED:20250915T134148Z
LAST-MODIFIED:20250918T150032Z
UID:7329-1763020800-1763053200@leadershipclarksville.com
SUMMARY:Business\, Industry\, & Health Day
DESCRIPTION:Leadership Clarksville Class of 2026 Business\, Industry\, & Health Day
URL:https://leadershipclarksville.com/event/business-industry-day/
END:VEVENT
BEGIN:VEVENT
DTSTART;TZID=America/Chicago:20251112T080000
DTEND;TZID=America/Chicago:20251112T170000
DTSTAMP:20260421T141104
CREATED:20250915T135254Z
LAST-MODIFIED:20250915T135309Z
UID:7347-1762934400-1762966800@leadershipclarksville.com
SUMMARY:Leadership Development Day - Youth Leadership Clarksville
DESCRIPTION:YLC Leadership Development Day
URL:https://leadershipclarksville.com/event/leadership-development-day-youth-leadership-clarskville/
END:VEVENT
BEGIN:VEVENT
DTSTART;TZID=America/Chicago:20251028T160000
DTEND;TZID=America/Chicago:20251028T170000
DTSTAMP:20260421T141104
CREATED:20250915T155610Z
LAST-MODIFIED:20250915T155610Z
UID:7362-1761667200-1761670800@leadershipclarksville.com
SUMMARY:Board of Trustees Meeting
DESCRIPTION:
URL:https://leadershipclarksville.com/event/board-of-trustees-meeting-6/
END:VEVENT
BEGIN:VEVENT
DTSTART;TZID=America/Chicago:20251009T080000
DTEND;TZID=America/Chicago:20251009T170000
DTSTAMP:20260421T141104
CREATED:20250915T133815Z
LAST-MODIFIED:20250915T134026Z
UID:7327-1759996800-1760029200@leadershipclarksville.com
SUMMARY:Agriculture Day
DESCRIPTION:Leadership Clarksville Class of 2026 Agriculture Day.
URL:https://leadershipclarksville.com/event/agriculture-day/
END:VEVENT
BEGIN:VEVENT
DTSTART;TZID=America/Chicago:20251007T080000
DTEND;TZID=America/Chicago:20251007T170000
DTSTAMP:20260421T141104
CREATED:20250915T135150Z
LAST-MODIFIED:20250915T135150Z
UID:7345-1759824000-1759856400@leadershipclarksville.com
SUMMARY:Agriculture & Urban Planning Day - Youth Leadership Clarksville
DESCRIPTION:YLC Agriculture & Urban Planning Day
URL:https://leadershipclarksville.com/event/agriculture-urban-planning-day-youth-leadership-clarksville/
END:VEVENT
BEGIN:VEVENT
DTSTART;TZID=America/Chicago:20250923T160000
DTEND;TZID=America/Chicago:20250923T170000
DTSTAMP:20260421T141104
CREATED:20250915T155536Z
LAST-MODIFIED:20250915T155536Z
UID:7360-1758643200-1758646800@leadershipclarksville.com
SUMMARY:Board of Trustees Training
DESCRIPTION:Board members only
URL:https://leadershipclarksville.com/event/board-of-trustees-training/
END:VEVENT
BEGIN:VEVENT
DTSTART;TZID=America/Chicago:20250911T080000
DTEND;TZID=America/Chicago:20250911T170000
DTSTAMP:20260421T141104
CREATED:20250910T161925Z
LAST-MODIFIED:20250910T161925Z
UID:7250-1757577600-1757610000@leadershipclarksville.com
SUMMARY:Ft. Campbell Day
DESCRIPTION:Leadership Clarksville visits Ft. Campbell for a program day centered around the mission and impact of our local military community.
URL:https://leadershipclarksville.com/event/ft-campbell-day/
LOCATION:Fort Campbell\, Ky
ORGANIZER;CN="Leadership Clarksville":MAILTO:info@leadershipclarksville.com
END:VEVENT
BEGIN:VEVENT
DTSTART;TZID=America/Chicago:20250909T080000
DTEND;TZID=America/Chicago:20250909T170000
DTSTAMP:20260421T141104
CREATED:20250910T162233Z
LAST-MODIFIED:20250910T162233Z
UID:7252-1757404800-1757437200@leadershipclarksville.com
SUMMARY:Ft. Campbell Day - Youth Leadership Clarksville
DESCRIPTION:Youth Leadership Clarksville visits Ft. Campbell for a program day centered around the mission and impact of our local military community.
URL:https://leadershipclarksville.com/event/ft-campbell-day-youth-leadership-clarksville/
END:VEVENT
BEGIN:VEVENT
DTSTART;TZID=America/Chicago:20250520T173000
DTEND;TZID=America/Chicago:20250520T193000
DTSTAMP:20260421T141104
CREATED:20250323T185150Z
LAST-MODIFIED:20250323T185304Z
UID:7206-1747762200-1747769400@leadershipclarksville.com
SUMMARY:Graduation
DESCRIPTION:
URL:https://leadershipclarksville.com/event/graduation/
LOCATION:Wilma Rudolph Events Center\, 8 Champion's Way\, Clarksville\, TN\, 37040\, United States
END:VEVENT
BEGIN:VEVENT
DTSTART;TZID=America/Chicago:20250515T173000
DTEND;TZID=America/Chicago:20250515T193000
DTSTAMP:20260421T141104
CREATED:20250323T184935Z
LAST-MODIFIED:20250323T185112Z
UID:7202-1747330200-1747337400@leadershipclarksville.com
SUMMARY:Study Group Topic Presentations
DESCRIPTION:Open to the public
URL:https://leadershipclarksville.com/event/study-group-topic-presentations/
LOCATION:Customs House Museum\, 200 S 2nd Street\, Clarksville\, TN\, 37040\, United States
END:VEVENT
BEGIN:VEVENT
DTSTART;VALUE=DATE:20250508
DTEND;VALUE=DATE:20250509
DTSTAMP:20260421T141104
CREATED:20250323T184820Z
LAST-MODIFIED:20250323T184820Z
UID:7200-1746662400-1746748799@leadershipclarksville.com
SUMMARY:Arts & Entertainment Day
DESCRIPTION:
URL:https://leadershipclarksville.com/event/arts-entertainment-day/
END:VEVENT
BEGIN:VEVENT
DTSTART;VALUE=DATE:20250410
DTEND;VALUE=DATE:20250411
DTSTAMP:20260421T141104
CREATED:20250323T184723Z
LAST-MODIFIED:20250323T184723Z
UID:7198-1744243200-1744329599@leadershipclarksville.com
SUMMARY:Education Day
DESCRIPTION:
URL:https://leadershipclarksville.com/event/education-day/
END:VEVENT
BEGIN:VEVENT
DTSTART;VALUE=DATE:20240523
DTEND;VALUE=DATE:20240524
DTSTAMP:20260421T141104
CREATED:20230804T161138Z
LAST-MODIFIED:20230804T161138Z
UID:6966-1716422400-1716508799@leadershipclarksville.com
SUMMARY:Leadership Clarksville Class of 2024 Graduation
DESCRIPTION:
URL:https://leadershipclarksville.com/event/leadership-clarksville-class-of-2024-graduation/
END:VEVENT
BEGIN:VEVENT
DTSTART;VALUE=DATE:20240516
DTEND;VALUE=DATE:20240517
DTSTAMP:20260421T141104
CREATED:20230804T161106Z
LAST-MODIFIED:20230804T161106Z
UID:6964-1715817600-1715903999@leadershipclarksville.com
SUMMARY:Leadership Clarksville Study Group Topic Presentations
DESCRIPTION:
URL:https://leadershipclarksville.com/event/leadership-clarksville-study-group-topic-presentations/
END:VEVENT
BEGIN:VEVENT
DTSTART;VALUE=DATE:20240509
DTEND;VALUE=DATE:20240510
DTSTAMP:20260421T141104
CREATED:20230804T161033Z
LAST-MODIFIED:20230804T161033Z
UID:6962-1715212800-1715299199@leadershipclarksville.com
SUMMARY:Leadership Clarksville Arts and Entertainment Program Day
DESCRIPTION:
URL:https://leadershipclarksville.com/event/leadership-clarksville-arts-and-entertainment-program-day/
END:VEVENT
BEGIN:VEVENT
DTSTART;VALUE=DATE:20240411
DTEND;VALUE=DATE:20240412
DTSTAMP:20260421T141104
CREATED:20230804T160955Z
LAST-MODIFIED:20230804T160955Z
UID:6960-1712793600-1712879999@leadershipclarksville.com
SUMMARY:Leadership Clarksville Education Program Day
DESCRIPTION:
URL:https://leadershipclarksville.com/event/leadership-clarksville-education-program-day/
END:VEVENT
BEGIN:VEVENT
DTSTART;VALUE=DATE:20240404
DTEND;VALUE=DATE:20240405
DTSTAMP:20260421T141104
CREATED:20230808T164803Z
LAST-MODIFIED:20230808T164803Z
UID:6983-1712188800-1712275199@leadershipclarksville.com
SUMMARY:YLC Arts and Entertainment Day
DESCRIPTION:
URL:https://leadershipclarksville.com/event/ylc-arts-and-entertainment-day/
END:VEVENT
BEGIN:VEVENT
DTSTART;VALUE=DATE:20240321
DTEND;VALUE=DATE:20240322
DTSTAMP:20260421T141104
CREATED:20230804T160925Z
LAST-MODIFIED:20230804T160925Z
UID:6958-1710979200-1711065599@leadershipclarksville.com
SUMMARY:Leadership Clarksville Government & Media Program Day
DESCRIPTION:
URL:https://leadershipclarksville.com/event/leadership-clarksville-government-media-program-day/
END:VEVENT
BEGIN:VEVENT
DTSTART;VALUE=DATE:20240307
DTEND;VALUE=DATE:20240308
DTSTAMP:20260421T141104
CREATED:20230808T164736Z
LAST-MODIFIED:20230808T164736Z
UID:6981-1709769600-1709855999@leadershipclarksville.com
SUMMARY:YLC Government\, Justice\, Emergency Services Day
DESCRIPTION:
URL:https://leadershipclarksville.com/event/ylc-government-justice-emergency-services-day/
END:VEVENT
BEGIN:VEVENT
DTSTART;VALUE=DATE:20240208
DTEND;VALUE=DATE:20240209
DTSTAMP:20260421T141104
CREATED:20230804T160845Z
LAST-MODIFIED:20230804T160845Z
UID:6956-1707350400-1707436799@leadershipclarksville.com
SUMMARY:Leadership Clarksville Health and Social Concern Program Day
DESCRIPTION:
URL:https://leadershipclarksville.com/event/leadership-clarksville-health-and-social-concern-program-day/
END:VEVENT
BEGIN:VEVENT
DTSTART;VALUE=DATE:20240201
DTEND;VALUE=DATE:20240202
DTSTAMP:20260421T141104
CREATED:20230808T164652Z
LAST-MODIFIED:20230808T164652Z
UID:6979-1706745600-1706831999@leadershipclarksville.com
SUMMARY:YLC Small Business and Industry Day
DESCRIPTION:
URL:https://leadershipclarksville.com/event/ylc-small-business-and-industry-day/
END:VEVENT
BEGIN:VEVENT
DTSTART;VALUE=DATE:20240111
DTEND;VALUE=DATE:20240112
DTSTAMP:20260421T141104
CREATED:20230808T164616Z
LAST-MODIFIED:20230808T164616Z
UID:6977-1704931200-1705017599@leadershipclarksville.com
SUMMARY:YLC Media\, Community Service and Religion Day
DESCRIPTION:
URL:https://leadershipclarksville.com/event/ylc-media-community-service-and-religion-day/
END:VEVENT
BEGIN:VEVENT
DTSTART;VALUE=DATE:20240111
DTEND;VALUE=DATE:20240112
DTSTAMP:20260421T141104
CREATED:20230804T160757Z
LAST-MODIFIED:20230804T160757Z
UID:6954-1704931200-1705017599@leadershipclarksville.com
SUMMARY:Leadership Clarksville Spirituality and Inclusion Program Day
DESCRIPTION:
URL:https://leadershipclarksville.com/event/leadership-clarksville-spirituality-and-inclusion-program-day/
END:VEVENT
BEGIN:VEVENT
DTSTART;VALUE=DATE:20231214
DTEND;VALUE=DATE:20231215
DTSTAMP:20260421T141104
CREATED:20230804T160713Z
LAST-MODIFIED:20230804T160713Z
UID:6952-1702512000-1702598399@leadershipclarksville.com
SUMMARY:Leadership Clarksville Business\, Industry\, & Agriculture Program Day
DESCRIPTION:
URL:https://leadershipclarksville.com/event/leadership-clarksville-business-industry-agriculture-program-day/
END:VEVENT
BEGIN:VEVENT
DTSTART;VALUE=DATE:20231207
DTEND;VALUE=DATE:20231208
DTSTAMP:20260421T141104
CREATED:20230808T164510Z
LAST-MODIFIED:20230808T164510Z
UID:6975-1701907200-1701993599@leadershipclarksville.com
SUMMARY:YLC Leadership Development Day
DESCRIPTION:
URL:https://leadershipclarksville.com/event/ylc-leadership-development-day/
END:VEVENT
BEGIN:VEVENT
DTSTART;VALUE=DATE:20231109
DTEND;VALUE=DATE:20231110
DTSTAMP:20260421T141104
CREATED:20230804T160629Z
LAST-MODIFIED:20230804T160629Z
UID:6950-1699488000-1699574399@leadershipclarksville.com
SUMMARY:Leadership Clarksville Law\, Crime\, & Justice Program Day
DESCRIPTION:
URL:https://leadershipclarksville.com/event/leadership-clarksville-law-crime-justice-program-day/
END:VEVENT
BEGIN:VEVENT
DTSTART;VALUE=DATE:20231102
DTEND;VALUE=DATE:20231103
DTSTAMP:20260421T141104
CREATED:20230808T164438Z
LAST-MODIFIED:20230808T164438Z
UID:6973-1698883200-1698969599@leadershipclarksville.com
SUMMARY:YLC Health Day
DESCRIPTION:
URL:https://leadershipclarksville.com/event/ylc-health-day-2/
END:VEVENT
END:VCALENDAR