BEGIN:VCALENDAR
VERSION:2.0
PRODID:-//Leadership Clarksville - ECPv6.15.18//NONSGML v1.0//EN
CALSCALE:GREGORIAN
METHOD:PUBLISH
X-WR-CALNAME:Leadership Clarksville
X-ORIGINAL-URL:https://leadershipclarksville.com
X-WR-CALDESC:Events for Leadership Clarksville
REFRESH-INTERVAL;VALUE=DURATION:PT1H
X-Robots-Tag:noindex
X-PUBLISHED-TTL:PT1H
BEGIN:VTIMEZONE
TZID:America/Chicago
BEGIN:DAYLIGHT
TZOFFSETFROM:-0600
TZOFFSETTO:-0500
TZNAME:CDT
DTSTART:20250309T080000
END:DAYLIGHT
BEGIN:STANDARD
TZOFFSETFROM:-0500
TZOFFSETTO:-0600
TZNAME:CST
DTSTART:20251102T070000
END:STANDARD
BEGIN:DAYLIGHT
TZOFFSETFROM:-0600
TZOFFSETTO:-0500
TZNAME:CDT
DTSTART:20260308T080000
END:DAYLIGHT
BEGIN:STANDARD
TZOFFSETFROM:-0500
TZOFFSETTO:-0600
TZNAME:CST
DTSTART:20261101T070000
END:STANDARD
BEGIN:DAYLIGHT
TZOFFSETFROM:-0600
TZOFFSETTO:-0500
TZNAME:CDT
DTSTART:20270314T080000
END:DAYLIGHT
BEGIN:STANDARD
TZOFFSETFROM:-0500
TZOFFSETTO:-0600
TZNAME:CST
DTSTART:20271107T070000
END:STANDARD
END:VTIMEZONE
BEGIN:VEVENT
DTSTART;TZID=America/Chicago:20260428T080000
DTEND;TZID=America/Chicago:20260428T100000
DTSTAMP:20260421T105745
CREATED:20260417T125126Z
LAST-MODIFIED:20260417T131527Z
UID:7522-1777363200-1777370400@leadershipclarksville.com
SUMMARY:Revitalize Riverside Town Hall Meeting
DESCRIPTION:Do you miss when Riverside Drive was the place to be on Saturday night\, Reds baked potatoes\, or Rivers and Spires?\n\nLeadership Clarksville’s Revitalize Riverside group is hosting a town hall meeting to discuss how to bring the magic back to the heart of Clarksville and inspire a renaissance on our riverfront. Residents\, business and property owners\, and curious Clarksvillians are invited to to participate by sharing their hopes for Riverside and discussing how we can make change possible.\n\nThe Town Hall Meeting is Tuesday April 28th at 8:00 AM at the Regional Planning Commission hearing room.
URL:https://leadershipclarksville.com/event/revitalize-riverside-town-hall-meeting/
LOCATION:Clarksville Montgomery County Regional Planning Commission\, 329 Main St.\, Clarksville\, TN\, 37040
END:VEVENT
BEGIN:VEVENT
DTSTART;TZID=America/Chicago:20260428T160000
DTEND;TZID=America/Chicago:20260428T170000
DTSTAMP:20260421T105745
CREATED:20251014T171610Z
LAST-MODIFIED:20260407T162140Z
UID:7387-1777392000-1777395600@leadershipclarksville.com
SUMMARY:Board of Trustees Meeting
DESCRIPTION:Location: 335 Franklin St.\, Hankook Room (ground floor – enter through Chamber of Commerce entrance)
URL:https://leadershipclarksville.com/event/board-of-trustees-meeting-9/
LOCATION:TN
END:VEVENT
BEGIN:VEVENT
DTSTART;TZID=America/Chicago:20260514T173000
DTEND;TZID=America/Chicago:20260514T193000
DTSTAMP:20260421T105745
CREATED:20250915T134738Z
LAST-MODIFIED:20260407T162035Z
UID:7341-1778779800-1778787000@leadershipclarksville.com
SUMMARY:Study Group Topics Presentation
DESCRIPTION:Leadership Clarksville Class of 2026 Study Group Presentations \nLocation:  Austin Peay State University Art & Design Building Room 120 (Heydel Hall)
URL:https://leadershipclarksville.com/event/study-group-topics-presentation/
LOCATION:TN
END:VEVENT
BEGIN:VEVENT
DTSTART;TZID=America/Chicago:20260519T173000
DTEND;TZID=America/Chicago:20260519T193000
DTSTAMP:20260421T105745
CREATED:20250915T134832Z
LAST-MODIFIED:20251124T171734Z
UID:7343-1779211800-1779219000@leadershipclarksville.com
SUMMARY:Class of 2026 Graduation
DESCRIPTION:Leadership Clarksville Class of 2026 Graduation
URL:https://leadershipclarksville.com/event/graduation-2/
LOCATION:TN
END:VEVENT
BEGIN:VEVENT
DTSTART;TZID=America/Chicago:20260602T113000
DTEND;TZID=America/Chicago:20260602T130000
DTSTAMP:20260421T105745
CREATED:20251124T173041Z
LAST-MODIFIED:20251124T173041Z
UID:7417-1780399800-1780405200@leadershipclarksville.com
SUMMARY:Lunch-n-Learn - The State of Clarksville/Montgomery County
DESCRIPTION:More details will be available closer to the event date.
URL:https://leadershipclarksville.com/event/lunch-n-learn-the-state-of-clarksville-montgomery-county/
LOCATION:William O. Beach Civic Hall\, 350 Pagent Ln. Suite 201\, Clarksville\, TN\, 37040
END:VEVENT
BEGIN:VEVENT
DTSTART;TZID=America/Chicago:20260623T160000
DTEND;TZID=America/Chicago:20260623T170000
DTSTAMP:20260421T105745
CREATED:20251014T171757Z
LAST-MODIFIED:20251014T171757Z
UID:7389-1782230400-1782234000@leadershipclarksville.com
SUMMARY:Board of Trustees Meeting
DESCRIPTION:
URL:https://leadershipclarksville.com/event/board-of-trustees-meeting-10/
LOCATION:TN
END:VEVENT
END:VCALENDAR